BEGIN:VCALENDAR
VERSION:2.0
PRODID:-//wp-events-plugin.com//7.2.3.1//EN
TZID:America/New_York
X-WR-TIMEZONE:America/New_York
BEGIN:VEVENT
UID:582@stillwater.sals.edu
DTSTART;TZID=America/New_York:20260502T100000
DTEND;TZID=America/New_York:20260502T150000
DTSTAMP:20260422T193932Z
URL:https://stillwater.sals.edu/events/28th-annual-steamer-car-show/
SUMMARY:28th Annual Steamer Car Show
DESCRIPTION:
ATTACH;FMTTYPE=image/jpeg:https://stillwater.sals.edu/wp-content/uploads/2
 026/04/Newland-Wood-e1775688213668.png
CATEGORIES:Community
LOCATION:Stillwater Central School District\, 1068 Hudson Avenue\, Stillwat
 er\, NY\, 12170\, United States
X-APPLE-STRUCTURED-LOCATION;VALUE=URI;X-ADDRESS=1068 Hudson Avenue\, Stillw
 ater\, NY\, 12170\, United States;X-APPLE-RADIUS=100;X-TITLE=Stillwater Ce
 ntral School District:geo:0,0
END:VEVENT
BEGIN:VTIMEZONE
TZID:America/New_York
X-LIC-LOCATION:America/New_York
BEGIN:DAYLIGHT
DTSTART:20260308T030000
TZOFFSETFROM:-0500
TZOFFSETTO:-0400
TZNAME:EDT
END:DAYLIGHT
END:VTIMEZONE
END:VCALENDAR