BEGIN:VCALENDAR
VERSION:2.0
PRODID:-//wp-events-plugin.com//7.2.3.1//EN
TZID:America/New_York
X-WR-TIMEZONE:America/New_York
BEGIN:VEVENT
UID:552@stillwater.sals.edu
DTSTART;TZID=America/New_York:20261229T180000
DTEND;TZID=America/New_York:20261229T184500
DTSTAMP:20260422T162812Z
URL:https://stillwater.sals.edu/events/build-squad-2026-12-29/
SUMMARY:Build Squad!
DESCRIPTION:Build Squad meets weekly at 6pm in the Children's room to const
 ruct a given challenge from LEGOS!\n\nAges 6 and up. \n\n[wpforms id="310
 934"]
ATTACH;FMTTYPE=image/jpeg:https://stillwater.sals.edu/wp-content/uploads/2
 026/04/Build-Squad-1.png
CATEGORIES:Children
LOCATION:Stillwater Public Library\, 712 Hudson Avenue\, Stillwater\, NY\, 
 12170\, United States
X-APPLE-STRUCTURED-LOCATION;VALUE=URI;X-ADDRESS=712 Hudson Avenue\, Stillwa
 ter\, NY\, 12170\, United States;X-APPLE-RADIUS=100;X-TITLE=Stillwater Pub
 lic Library:geo:0,0
END:VEVENT
BEGIN:VTIMEZONE
TZID:America/New_York
X-LIC-LOCATION:America/New_York
BEGIN:STANDARD
DTSTART:20261101T010000
TZOFFSETFROM:-0400
TZOFFSETTO:-0500
TZNAME:EST
END:STANDARD
END:VTIMEZONE
END:VCALENDAR