BEGIN:VCALENDAR
VERSION:2.0
PRODID:-//wp-events-plugin.com//7.2.3.1//EN
TZID:America/New_York
X-WR-TIMEZONE:America/New_York
BEGIN:VEVENT
UID:580@stillwater.sals.edu
DTSTART;TZID=America/New_York:20260516T153000
DTEND;TZID=America/New_York:20260516T170000
DTSTAMP:20260423T122036Z
URL:https://stillwater.sals.edu/events/chicken-bbq/
SUMMARY:Chicken BBQ
DESCRIPTION:We have a few of these Fundraisers to help us support Veterans 
 and Veteran Charities. We try to keep our support to Saratoga County. We a
 re Veterans\, Sons\, Auxiliary members of the American Legion who like to 
 support Veterans while riding our motorcycles. Our Chicken BBQ consists of
  - 1/2 chicken\, homemade macaroni salad\, baked beans\, roll and dessert 
 (cookies). Each dinner is currently $15.\n\n** We recommend calling ahead 
 to pre-order by calling 518-258-0231.**
ATTACH;FMTTYPE=image/jpeg:https://stillwater.sals.edu/wp-content/uploads/2
 026/04/riders.jpg
CATEGORIES:Community
LOCATION:Earl J. Manning American Legion Post 490\, 1 American Legion Road\
 , Stillwater\, NY\, 12170\, United States
X-APPLE-STRUCTURED-LOCATION;VALUE=URI;X-ADDRESS=1 American Legion Road\, St
 illwater\, NY\, 12170\, United States;X-APPLE-RADIUS=100;X-TITLE=Earl J. M
 anning American Legion Post 490:geo:0,0
END:VEVENT
BEGIN:VTIMEZONE
TZID:America/New_York
X-LIC-LOCATION:America/New_York
BEGIN:DAYLIGHT
DTSTART:20260308T030000
TZOFFSETFROM:-0500
TZOFFSETTO:-0400
TZNAME:EDT
END:DAYLIGHT
END:VTIMEZONE
END:VCALENDAR