BEGIN:VCALENDAR
VERSION:2.0
PRODID:-//wp-events-plugin.com//7.2.3.1//EN
TZID:America/New_York
X-WR-TIMEZONE:America/New_York
BEGIN:VEVENT
UID:369@stillwater.sals.edu
DTSTART;TZID=America/New_York:20261106T090000
DTEND;TZID=America/New_York:20261106T190000
DTSTAMP:20260209T181206Z
URL:https://stillwater.sals.edu/events/closed-for-our-fundraiser/
SUMMARY:Closed for our fundraiser
DESCRIPTION:
ATTACH;FMTTYPE=image/jpeg:https://stillwater.sals.edu/wp-content/uploads/2
 026/02/Copy-of-Stillwater-Library-Ladies-2.png
CATEGORIES:closed
LOCATION:Stillwater Public Library\, 712 Hudson Avenue\, Stillwater\, NY\, 
 12170\, United States
X-APPLE-STRUCTURED-LOCATION;VALUE=URI;X-ADDRESS=712 Hudson Avenue\, Stillwa
 ter\, NY\, 12170\, United States;X-APPLE-RADIUS=100;X-TITLE=Stillwater Pub
 lic Library:geo:0,0
END:VEVENT
BEGIN:VTIMEZONE
TZID:America/New_York
X-LIC-LOCATION:America/New_York
BEGIN:STANDARD
DTSTART:20261101T010000
TZOFFSETFROM:-0400
TZOFFSETTO:-0500
TZNAME:EST
END:STANDARD
END:VTIMEZONE
END:VCALENDAR