BEGIN:VCALENDAR
VERSION:2.0
PRODID:-//wp-events-plugin.com//7.2.3.1//EN
TZID:America/New_York
X-WR-TIMEZONE:America/New_York
BEGIN:VEVENT
UID:188@stillwater.sals.edu
DTSTART;TZID=America/New_York:20260518T180000
DTEND;TZID=America/New_York:20260518T190000
DTSTAMP:20260312T152323Z
URL:https://stillwater.sals.edu/events/cookbook-book-club-2026-05-25/
SUMMARY:Cookbook Book Club
DESCRIPTION:[wpforms id="309679"\n\n&nbsp\;\n\n&nbsp\;\n\n&nbsp\;\n\n&nbsp\
 ;\n\n&nbsp\;\n\n&nbsp\;\n\n&nbsp\;\n\n&nbsp\;\n\n&nbsp\;\n\n&nbsp\;\n\n&nb
 sp\;\n\n&nbsp\;\n\n&nbsp\;\n\n&nbsp\;\n\n&nbsp\;\n\n&nbsp\;\n\n&nbsp\;\n\n
 &nbsp\;\n\n&nbsp\;\n\n&nbsp\;\n\n&nbsp\;\n\n&nbsp\;\n\n&nbsp\;\n\n&nbsp\;
ATTACH;FMTTYPE=image/jpeg:https://stillwater.sals.edu/wp-content/uploads/2
 026/02/Cook-May-18.png
CATEGORIES:Adults
LOCATION:Stillwater Public Library\, 712 Hudson Avenue\, Stillwater\, NY\, 
 12170\, United States
X-APPLE-STRUCTURED-LOCATION;VALUE=URI;X-ADDRESS=712 Hudson Avenue\, Stillwa
 ter\, NY\, 12170\, United States;X-APPLE-RADIUS=100;X-TITLE=Stillwater Pub
 lic Library:geo:0,0
END:VEVENT
BEGIN:VTIMEZONE
TZID:America/New_York
X-LIC-LOCATION:America/New_York
BEGIN:DAYLIGHT
DTSTART:20260308T030000
TZOFFSETFROM:-0500
TZOFFSETTO:-0400
TZNAME:EDT
END:DAYLIGHT
END:VTIMEZONE
END:VCALENDAR