BEGIN:VCALENDAR
VERSION:2.0
PRODID:-//wp-events-plugin.com//7.2.3.1//EN
TZID:America/New_York
X-WR-TIMEZONE:America/New_York
BEGIN:VEVENT
UID:520@stillwater.sals.edu
DTSTART;TZID=America/New_York:20261217T130000
DTEND;TZID=America/New_York:20261217T143000
DTSTAMP:20260416T141839Z
URL:https://stillwater.sals.edu/events/fiber-and-fabric-arts-group-2026-04
 -16-2026-05-21-2026-06-18-2026-07-16-2026-08-20-2026-09-17-2026-10-15-2026
 -11-19-2026-12-17/
SUMMARY:Fiber and Fabric Arts Group
DESCRIPTION:Bring whatever you are working on and join us! Maybe you can he
 lp another\, or get help yourself!\n\n3rd Thursdays at 1pm in the communit
 y room\n\n(We take July and August off due to weather!)
ATTACH;FMTTYPE=image/jpeg:https://stillwater.sals.edu/wp-content/uploads/2
 026/04/Fiber-and-Fabric-Arts.png
CATEGORIES:Adults
LOCATION:Stillwater Public Library\, 712 Hudson Avenue\, Stillwater\, NY\, 
 12170\, United States
X-APPLE-STRUCTURED-LOCATION;VALUE=URI;X-ADDRESS=712 Hudson Avenue\, Stillwa
 ter\, NY\, 12170\, United States;X-APPLE-RADIUS=100;X-TITLE=Stillwater Pub
 lic Library:geo:0,0
END:VEVENT
BEGIN:VTIMEZONE
TZID:America/New_York
X-LIC-LOCATION:America/New_York
BEGIN:STANDARD
DTSTART:20261101T010000
TZOFFSETFROM:-0400
TZOFFSETTO:-0500
TZNAME:EST
END:STANDARD
END:VTIMEZONE
END:VCALENDAR