BEGIN:VCALENDAR
VERSION:2.0
PRODID:-//wp-events-plugin.com//7.2.3.1//EN
TZID:America/New_York
X-WR-TIMEZONE:America/New_York
BEGIN:VEVENT
UID:502@stillwater.sals.edu
DTSTART;TZID=America/New_York:20260520T180000
DTEND;TZID=America/New_York:20260520T193000
DTSTAMP:20260407T200734Z
URL:https://stillwater.sals.edu/events/meet-your-80-year-old-self/
SUMMARY:Meet Your 80-Year-Old Self!
DESCRIPTION:Meet Your 80-Year-Old Self! \nA FREE Future Self Workshop for 
 Women\n\nMost of us spend more time planning a vacation than planning the 
 next 20 years of our lives. This workshop is an ivitation to change that!\
 n\nIn 90 Minutes\, you will:\n\n 	Get a simple introduction to the Future 
 Self framework - a way of thinking about who you are becoming\, not just w
 hat you are doing\n 	Work thorough five guided questions that help you see
  your 80-year-old self clearly\n 	Sit in a room with other women who are a
 sking the same question: is it too late?\n 	Leave with one concrete thing 
 you can do this week toward the lief you actually want\n\nIt is not too la
 te. AND\, the best time to start building is right now.\n\nThis workshop i
 s free and ontentionally limited to ten women.\n\n[wpforms id="310835"]
ATTACH;FMTTYPE=image/jpeg:https://stillwater.sals.edu/wp-content/uploads/2
 026/04/Nancy-K.png
CATEGORIES:Adults
LOCATION:Stillwater Public Library\, 712 Hudson Avenue\, Stillwater\, NY\, 
 12170\, United States
X-APPLE-STRUCTURED-LOCATION;VALUE=URI;X-ADDRESS=712 Hudson Avenue\, Stillwa
 ter\, NY\, 12170\, United States;X-APPLE-RADIUS=100;X-TITLE=Stillwater Pub
 lic Library:geo:0,0
END:VEVENT
BEGIN:VTIMEZONE
TZID:America/New_York
X-LIC-LOCATION:America/New_York
BEGIN:DAYLIGHT
DTSTART:20260308T030000
TZOFFSETFROM:-0500
TZOFFSETTO:-0400
TZNAME:EDT
END:DAYLIGHT
END:VTIMEZONE
END:VCALENDAR