BEGIN:VCALENDAR
VERSION:2.0
PRODID:-//wp-events-plugin.com//7.2.3.1//EN
TZID:America/New_York
X-WR-TIMEZONE:America/New_York
BEGIN:VEVENT
UID:583@stillwater.sals.edu
DTSTART;TZID=America/New_York:20260530T100000
DTEND;TZID=America/New_York:20260530T130000
DTSTAMP:20260423T122348Z
URL:https://stillwater.sals.edu/events/repair-cafe-with-plant-sale/
SUMMARY:Repair Cafe with Plant Sale
DESCRIPTION:
ATTACH;FMTTYPE=image/jpeg:https://stillwater.sals.edu/wp-content/uploads/2
 026/02/friends.png
CATEGORIES:Library Friends
LOCATION:Stillwater Public Library\, 712 Hudson Avenue\, Stillwater\, NY\, 
 12170\, United States
X-APPLE-STRUCTURED-LOCATION;VALUE=URI;X-ADDRESS=712 Hudson Avenue\, Stillwa
 ter\, NY\, 12170\, United States;X-APPLE-RADIUS=100;X-TITLE=Stillwater Pub
 lic Library:geo:0,0
END:VEVENT
BEGIN:VTIMEZONE
TZID:America/New_York
X-LIC-LOCATION:America/New_York
BEGIN:DAYLIGHT
DTSTART:20260308T030000
TZOFFSETFROM:-0500
TZOFFSETTO:-0400
TZNAME:EDT
END:DAYLIGHT
END:VTIMEZONE
END:VCALENDAR