BEGIN:VCALENDAR
VERSION:2.0
PRODID:-//wp-events-plugin.com//7.2.3.1//EN
TZID:America/New_York
X-WR-TIMEZONE:America/New_York
BEGIN:VEVENT
UID:555@stillwater.sals.edu
DTSTART;TZID=America/New_York:20260709T180000
DTEND;TZID=America/New_York:20260709T184500
DTSTAMP:20260422T163136Z
URL:https://stillwater.sals.edu/events/story-time-2026-07-09/
SUMMARY:Story Time
DESCRIPTION:UNEARTH A STORY!\n\nJoin Sara and Michele for an evening story 
 time celebrating all of the different dinosaurs this summer each week at 6
 pm. When possible we will be outdoors in our story time circle near the ri
 ver\, inside the program room when not.\n\nTriceratops\, T-Rex\, Velocirap
 tor\, Stegasaurus\, Spinosaurus\, Apatosaurus\, and FOSSILS\n\nCome early 
 to check in your reading and grab your next books :)\n\n[wpforms id="31096
 5" title="true"]
ATTACH;FMTTYPE=image/jpeg:https://stillwater.sals.edu/wp-content/uploads/2
 026/04/Story-Time-1.png
CATEGORIES:Children
LOCATION:Stillwater Public Library\, 712 Hudson Avenue\, Stillwater\, NY\, 
 12170\, United States
X-APPLE-STRUCTURED-LOCATION;VALUE=URI;X-ADDRESS=712 Hudson Avenue\, Stillwa
 ter\, NY\, 12170\, United States;X-APPLE-RADIUS=100;X-TITLE=Stillwater Pub
 lic Library:geo:0,0
END:VEVENT
BEGIN:VTIMEZONE
TZID:America/New_York
X-LIC-LOCATION:America/New_York
BEGIN:DAYLIGHT
DTSTART:20260308T030000
TZOFFSETFROM:-0500
TZOFFSETTO:-0400
TZNAME:EDT
END:DAYLIGHT
END:VTIMEZONE
END:VCALENDAR