BEGIN:VCALENDAR
VERSION:2.0
PRODID:-//wp-events-plugin.com//7.2.3.1//EN
TZID:America/New_York
X-WR-TIMEZONE:America/New_York
BEGIN:VEVENT
UID:284@stillwater.sals.edu
DTSTART;TZID=America/New_York:20261102T170000
DTEND;TZID=America/New_York:20261102T170000
DTSTAMP:20260331T172057Z
URL:https://stillwater.sals.edu/events/winner-chosen-2026-01-30-2026-02-27
 -2026-03-27-2026-04-24-2026-05-29-2026-06-26-2026-07-31-2026-08-28-2026-09
 -25-2026-10-30/
SUMMARY:Winner chosen!
DESCRIPTION:
ATTACH;FMTTYPE=image/jpeg:https://stillwater.sals.edu/wp-content/uploads/2
 026/02/monthly-drawing.png
CATEGORIES:Teen
LOCATION:Stillwater Public Library\, 712 Hudson Avenue\, Stillwater\, NY\, 
 12170\, United States
X-APPLE-STRUCTURED-LOCATION;VALUE=URI;X-ADDRESS=712 Hudson Avenue\, Stillwa
 ter\, NY\, 12170\, United States;X-APPLE-RADIUS=100;X-TITLE=Stillwater Pub
 lic Library:geo:0,0
END:VEVENT
BEGIN:VTIMEZONE
TZID:America/New_York
X-LIC-LOCATION:America/New_York
BEGIN:STANDARD
DTSTART:20261101T010000
TZOFFSETFROM:-0400
TZOFFSETTO:-0500
TZNAME:EST
END:STANDARD
END:VTIMEZONE
END:VCALENDAR